BEGIN:VCALENDAR
VERSION:2.0
PRODID:-//PD Šempeter - ECPv6.15.13.1//NONSGML v1.0//EN
CALSCALE:GREGORIAN
METHOD:PUBLISH
X-ORIGINAL-URL:https://pd-sempeter.si
X-WR-CALDESC:Dogodki za PD Šempeter
REFRESH-INTERVAL;VALUE=DURATION:PT1H
X-Robots-Tag:noindex
X-PUBLISHED-TTL:PT1H
BEGIN:VTIMEZONE
TZID:Europe/Ljubljana
BEGIN:DAYLIGHT
TZOFFSETFROM:+0100
TZOFFSETTO:+0200
TZNAME:CEST
DTSTART:20250330T010000
END:DAYLIGHT
BEGIN:STANDARD
TZOFFSETFROM:+0200
TZOFFSETTO:+0100
TZNAME:CET
DTSTART:20251026T010000
END:STANDARD
BEGIN:DAYLIGHT
TZOFFSETFROM:+0100
TZOFFSETTO:+0200
TZNAME:CEST
DTSTART:20260329T010000
END:DAYLIGHT
BEGIN:STANDARD
TZOFFSETFROM:+0200
TZOFFSETTO:+0100
TZNAME:CET
DTSTART:20261025T010000
END:STANDARD
BEGIN:DAYLIGHT
TZOFFSETFROM:+0100
TZOFFSETTO:+0200
TZNAME:CEST
DTSTART:20270328T010000
END:DAYLIGHT
BEGIN:STANDARD
TZOFFSETFROM:+0200
TZOFFSETTO:+0100
TZNAME:CET
DTSTART:20271031T010000
END:STANDARD
END:VTIMEZONE
BEGIN:VEVENT
DTSTART;TZID=Europe/Ljubljana:20260418T043000
DTEND;TZID=Europe/Ljubljana:20260418T170000
DTSTAMP:20260424T163709
CREATED:20260114T065527Z
LAST-MODIFIED:20260309T204053Z
UID:426-1776486600-1776531600@pd-sempeter.si
SUMMARY:Pohod "PO MEDVEDOVIH STOPINJAH" - (Sobota\, 18. 4. 2026)
DESCRIPTION:V soboto\, 18. aprila 2026\, ob 4.30 vas vabimo na pohod vzdržljivosti Po medvedovih stopinjah. \nDogodek je namenjen vsem ljubiteljem narave in dolgih pohodov\, ki si želijo osebnega izziva\, gibanja na svežem zraku in nepozabne izkušnje v kočevskih gozdovih. \nPot je polna presenečenj in priložnosti\, saj vsak korak odpira nova obzorja. Vsi\, ki se podajo na to preizkušnjo\, imajo isti cilj – preseči svoje meje in spoznati svojo notranjo moč. Skupaj\, a vsak zase – korak za korakom. \nZberemo se na parkirišču trgovine Mercator v Šempetru\, od koder se z izrednim avtobusom odpeljemo proti Ljubljani\, nato proti Kočevju do Kočevskega jezera\, kjer se začne pohod. \nHodili bomo po krajši\, 36 km dolgi krožni poti\, ki poteka ob Kočevskem jezeru\, skozi Stari breg in Pugled\, mimo Prelesnikove koliševke do Lovskega doma in nazaj do izhodišča. Na poti bodo štiri kontrolne točke\, vključno s štartom in ciljem. \nPohod je primeren za pohodnike\, ki zmorejo prehoditi približno 36 km lahke\, a dolge poti. \nZa hrano in pijačo poskrbite iz nahrbtnika. Na eni od kontrolnih točk bo na voljo topla malica\, na vseh kontrolnih točkah pa bo mogoče kupiti tudi pijačo in manjše prigrizke. \nPriporočamo ustrezno pohodniško opremo: udobne pohodne čevlje\, pohodne palice\, vremenu primerna oblačila\, rezervna oblačila\, dodatne nogavice\, obliže za žulje in magnezij. \nPrijavnina za pohod je bila lani 35 EUR (predvidoma bo tudi letos enaka). Plača se organizatorju\, strošek prevoza se poravna posebej. \nPrijava bo potekala skupinsko\, zato za prijavo pokličite 031 579 085 (Irena) ali pišite na irena.sribar61@gmail.com. \nPridružite se nam in skupaj ustvarimo nepozabno pohodniško izkušnjo!
URL:https://pd-sempeter.si/dogodek/pohod-po-medvedovih-stopinjah/
LOCATION:Trgovina Mercator Šempeter – Kočevsko jezero
ATTACH;FMTTYPE=image/jpeg:https://pd-sempeter.si/wp-content/uploads/2026/01/pohod-po-medvedovih-stopinjah.jpg
END:VEVENT
BEGIN:VEVENT
DTSTART;TZID=Europe/Ljubljana:20260411T080000
DTEND;TZID=Europe/Ljubljana:20260411T170000
DTSTAMP:20260424T163709
CREATED:20260406T082321Z
LAST-MODIFIED:20260406T082321Z
UID:526-1775894400-1775926800@pd-sempeter.si
SUMMARY:POHOD ZA UMRLE PLANINCE - MARTJAKI – KADUNC – GRČE (Sobota\, 11.4.2026)
DESCRIPTION:POHOD ZA UMRLE PLANINCE\n/MARTJAKI – KADUNC – GRČE – BAR SE-BI/\nv soboto 11. aprila 2026 ob 8.uri \nVabimo vas na POHOD ZA UMRLE PLANINCE\, ki je v skupni akciji\nžalskih PD – PD Šempeter\, PD Zabukovica\, PD Žalec\, PD Liboje\, PD\nGalicija – letošnji organizator je PD Šempeter. \nZberemo se pred Barom SE-BI v Zg. Grušovljih\, kjer se bo začel naš\npohod. Najprej nas pot vodi proti Martjakom\, nadaljujemo na vrh\nKadunca\, nato proti Grčam\, mimo jame Pekel nazaj na izhodišče pri\nBaru SE-BI. \nPriporočamo pohodne čevlje\, pohodne palice in vremenu primerna\noblačila\nPohod je primeren za vse starostne skupine\, ki zmorejo prehoditi\nokoli 3 ure nenaporne hoje.\nPrijave na pohod niso potrebne\, dodatne informacije dobite na tel. 031 501 244 /Silvo/.
URL:https://pd-sempeter.si/dogodek/pohod-za-umrle-planince-martjaki-kadunc-grce-sobota-11-4-2026/
ATTACH;FMTTYPE=image/jpeg:https://pd-sempeter.si/wp-content/uploads/2026/04/pd-sempeter-pohod-za-umrle-planince.jpg
END:VEVENT
BEGIN:VEVENT
DTSTART;TZID=Europe/Ljubljana:20260411T080000
DTEND;TZID=Europe/Ljubljana:20260411T170000
DTSTAMP:20260424T163709
CREATED:20260401T123731Z
LAST-MODIFIED:20260401T124336Z
UID:518-1775894400-1775926800@pd-sempeter.si
SUMMARY:MLADI PLANINEC - Potočka zijalka (1675 m) - (Sobota\, 11.4.2026)
DESCRIPTION:VZPON DO POTOČKE ZIJALKE  \n(1675 m) \n  \nv soboto\, 11. 4. 2026\, ob 8. uri. \nZberemo se na parkirišču trgovine Mercator v Šempetru\, od koder se s svojimi vozili odpeljemo proti Solčavi\, od tam pa do gorskega zaselka Sveti Duh. \nZ izhodišča se najprej sprehodimo do turistične kmetije Rogar\, nato pa nadaljujemo levo po kolovozu\, ki se prične vzpenjati skozi gozd. Malo višje se na levi strani priključi kolovoz\, ki vodi do cerkve Svetega Duha. Pot nadaljujemo desno po markirani poti proti Olševi. Kolovoz se nato spremeni v stezo\, ki nas pripelje do državne meje. Od tu se nekaj časa vzpenjamo\, nato pa prispemo na označeno razpotje\, kjer nadaljujemo desno v smeri Potočke zijalke. \nOd razpotja sledi še približno 10 minut strmega vzpona\, da prispemo do kraške jame. Vračamo se po isti poti. \nZa pot bomo porabili slabe 3 ure delno zahtevne hoje. \nMLADE PLANINCE BO TOKRAT PRESENETIL ZAJČEK. \n S sabo potrebujete dobro uhojeno planinsko obutev\, vremenu primerna oblačila (rokavice\, kapa\, vetrovka …) in dnevnik Mladega planinca. Poleg otrok ste na izlet vabljeni tudi starši. \n Poskrbite za hrano in pijačo iz nahrbtnika. \nPrijavite se z SMS sporočilom do četrtka\, 9. 4. 2026\, na telefon  031/276-481 (Marjetka). \n V SMS sporočilo napišite ime in priimek udeležencev\, kot je navedeno spodaj.  \nPrimer:  \nJanez Novak – S (starš oz. skrbnik) \nMiha Novak – O (otrok)  \n  \nPojdite z nami odkrivat našo prazgodovino!
URL:https://pd-sempeter.si/dogodek/mladi-planinec-potocka-zijalka-1675-m-sobota-11-4-2026/
ATTACH;FMTTYPE=image/jpeg:https://pd-sempeter.si/wp-content/uploads/2026/04/Pd-sempeter-potocka-zijalka-mladi-planinec.jpg
END:VEVENT
BEGIN:VEVENT
DTSTART;TZID=Europe/Ljubljana:20260406T060000
DTEND;TZID=Europe/Ljubljana:20260406T170000
DTSTAMP:20260424T163709
CREATED:20260327T142521Z
LAST-MODIFIED:20260327T142606Z
UID:513-1775455200-1775494800@pd-sempeter.si
SUMMARY:MALA GORA S PD ZABUKOVICA (Ponedeljek\, 6.4.2026)
DESCRIPTION:Planinski društvi Šempeter v Savinjski dolini in Zabukovica \nvas na praznični ponedeljek\, 06. aprila 2026\, skupaj vabita na 26. tradicionalni pohod na Malo goro (1034 m)\, ki predstavlja »simbol trdega dela in lepih spominov«. \nZ našo hojo bomo pričeli na manjšem parkirišču nad Lokavcem pod tuneli\, naprej Predmeja (883 m). »Srednječavenska pot« (domačini so jo včasih imenovali tudi Bošnarska pot) nas bo vodila skozi gozd\, dalje preko razglednega kamnitega sveta in spet preko gozda do Male gore. Do tu bomo hodili okrog dve uri. Pri planinski koči na Mali gori bo ob 11. uri pozdrav pohodnikom\, krajši program in prijetno druženje ob zvokih harmonike.Ob lepem vremenu bomo z Male gore in Čavna občudovali Kras\, Furlansko nižino\, pod nami Vipavsko nižino in na vzhodu obronke Nanosa notranjost Slovenije. \nPo daljšem postanku in prijetnem druženju z ostalimi pohodniki in domačimi planinci PS Kamnje\, s katerimi smo pred let stkal prijateljske vezi\, bomo pot nadaljevali v smeri Čavna do planinske koče Antona Bavčerja (1242 m). Za ta del bomo potrebovali slabo uro hoje. Počitek pri koči nam bo dal novih moči. \nPo dogovoru se bomo spustili v dolino v smeri Lokavca ali Predmeje in se po slabih 4-ih urah skupne prijetne hoje ponovno sedli na avtobus. \nOdhod vseh prijavljenih udeležencev bo v ponedeljek\, 06. aprila 2026\, ob 6. uri izpred trgovine Mercator v Šempetru. Vsak udeleženec pohoda udeleži na lastno odgovornost\, pohod bo ob vsakem vremenu. Oprema naj bo primerna kraškim vremenskim razmeram\, dobri pohodni čevlji so nuja\, v nahrbtniku naj ne manjka malica\, dovolj tekočine\, vetrovka\, proti-dežna pelerina\, kapa\,…pa seveda železna rezerva. Zelo priporočljivo so pohodne palice. Možnost toplega obroka bo v planinskih kočah na Mali gori in Čavnu. \nPrijave so zaradi organizacije prevoza obvezne do vključno petka\, 03. aprila 2026\, oz. do zasedbe mest na avtobusu pri org. vodji\, Silvu Črepinšek – 031 501 244; za vodenje po markiranih poteh bomo poskrbeli planinski vodniki PZS obeh omenjenih PD. \nNasvidenje in srečno na praznični Mali gori in Čavnu!
URL:https://pd-sempeter.si/dogodek/s-pd-zabukovica-ponedeljek-6-4-2026/
ATTACH;FMTTYPE=image/jpeg:https://pd-sempeter.si/wp-content/uploads/2026/03/pd-sempeter-in-zabukovica-mala-gora.jpg
END:VEVENT
BEGIN:VEVENT
DTSTART;TZID=Europe/Ljubljana:20260328T043000
DTEND;TZID=Europe/Ljubljana:20260328T170000
DTSTAMP:20260424T163709
CREATED:20260320T224452Z
LAST-MODIFIED:20260320T224536Z
UID:506-1774672200-1774717200@pd-sempeter.si
SUMMARY:STANIČEV POHOD S PD LAŠKO (Sobota\, 28.3.2026)
DESCRIPTION:31. POHOD PO POTEH \nVALENTINA STANIČA \nv soboto\, 28.3.2026 \nZberemo se na AP Laško ob 4:30 uri. Z avtobusom se odpeljemo v smeri  Celja mimo Ljubljane\, Postojne\, Ajdovščine do Nove Gorice. Pohod se začne v Solkanu (102m n.m.)\, od koder se bomo preko solkanskega mostu povzpeli proti vrhu Sabotina\, kjer se nam bo odprl prečudovit razgled na Sveto Goro\, Trnovsko planoto\, Goriško ravnino ter tržaški zaliv. Seveda pa nas vseskozi spremlja prekrasen pogled na smaragdno reko Sočo. Ob grebenski poti so dobro vidne številne sledi srditih bojev\, ki so se v teh koncih odvijali med prvo svetovno vojno. Po želji si bomo ogledali tudi nekaj kavern in bunkerjev (potrebna čelna svetilka). Pot nas bo nato vodila do Vrhovelj\, kjer se začne drugi del poti. Sledi vzpon na Korado\, ki je z 812m n.m. najvišja točka našega pohoda. Od tu pa nas čaka še spust do Kanala\, kjer se bo naš pohod zaključil. \nPot ni zahtevna\, je pa precej dolga. Za celotno traso je potrebnih 8 ur hoje (cca 25km). \nNe pozabite na planinsko opremo\, palice\, anorak\, kremo za sončenje. \n  \nStroški prevoza znašajo 25 EUR. Ob prijavi ste nosilec stroškov. \nInformacije  in prijave na telefonski številki 031 207 407 – Jurij Videc \n  \nROK PRIJAVE 26.3.2026 \nVaren Korak!
URL:https://pd-sempeter.si/dogodek/stanicev-pohod-s-pd-lasko-28/
LOCATION:AP Laško
ATTACH;FMTTYPE=image/jpeg:https://pd-sempeter.si/wp-content/uploads/2026/03/PD-LASKO-POHOD-po-poteh-Valentina-Stanica.jpg
END:VEVENT
BEGIN:VEVENT
DTSTART;TZID=Europe/Ljubljana:20260321T060000
DTEND;TZID=Europe/Ljubljana:20260321T170000
DTSTAMP:20260424T163709
CREATED:20260309T203703Z
LAST-MODIFIED:20260309T203818Z
UID:494-1774072800-1774112400@pd-sempeter.si
SUMMARY:RAKITOVEC-KAVČIČ-ŠPIČASTI VRH-ŽBEVNICA (Sobota\, 21. 3. 2026)
DESCRIPTION:RAKITOVEC-KAVČIČ-ŠPIČASTI VRH-ŽBEVNICA \nv soboto\, 21. marca 2026 ob 6.00 uri \nZberemo se na parkirišču trgovine Mercator v Šempetru\, od koder se z izrednim avtobusom odpeljemo do Kozine\, kjer bo postanek za kavo. Iz Kozine se peljemo do mejnega prehoda Sočerga in nato preko Buzeta  do Rakitovca\, kjer se bo začela naša pešpot. \nPot nas pelje skozi vas Rakitovec\, sledimo kolovozu do spodmolov pod Kavčičem\, skozi usek v živo skalo in zavijemo proti Kavčiču /879 m/. Od  tu po t.i. savani do poti\, ki nas bo popeljala na Špičasti vrh / 957m/. Še dobre pol ure hoje in bomo na Žbevnici /1014m/. Od tu sledi malo bolj strm spust do koče Žbevnica\, kjer bomo imeli daljši počitek. Čaka nas samo še 15 minutni spust do Bresta\, kjer nas bo čakal avtobus. Na tem delu poti bo potrebna večja previdnost. \nZa celotno pot bomo potrebovali  4  – 5 ur prijetne\, lahke hoje\, z lepimi razgledi proti morju\, Slavniku\, ostalim vrhovom\, katere smo prehodili lani v kar močni burji. \nHrana in pijača iz nahrbtnika. Ne pozabite na planinsko opremo\, pohodne palice in vremenu primerno obutev in oblačila. Priporočamo opremo za primer burje\, ustrezna pokrivala za glavo\, dovolj vode! \nKer bomo prečkali državno mejo\, ne pozabite osebnih dokumentov. \nPrijave zbiramo do srede 18. marca 2026 oz. do zasedbe avtobusa na številko 5701 944 ali 031 501 244. \nPOJDITE Z NAMI PO HRIBIH KRAŠKEGA ROBA!
URL:https://pd-sempeter.si/dogodek/rakitovec-kavcic-spicasti-vrh-zbevnica-21-3-2026/
ATTACH;FMTTYPE=image/jpeg:https://pd-sempeter.si/wp-content/uploads/2026/03/pd-sempeter-zbevnica.jpg
END:VEVENT
BEGIN:VEVENT
DTSTART;TZID=Europe/Ljubljana:20260320T150000
DTEND;TZID=Europe/Ljubljana:20260320T180000
DTSTAMP:20260424T163709
CREATED:20260313T101722Z
LAST-MODIFIED:20260313T101954Z
UID:502-1774018800-1774029600@pd-sempeter.si
SUMMARY:ČISTILNA AKCIJA (Petek\, 20. 3. 2026)
DESCRIPTION:V A B I L O \nVabimo vas\, da se udeležite čistilne akcije v občini Žalec\, ki jo bomo planinci PD Šempeter izvedli po obhodnicah Savinjske planinske poti na območju Krajevni skupnosti Šempeter. Zberemo se \nv petek\, 20. marca 2026 ob 15.00 uri\, \npri Gostišču SEBI v Zgornjih Grušovljah\, od koder se zapeljemo do kmetije Vrbnjak\, nato pa se peš odpravimo proti Martjakom do Kadunca in nato do Jame Pekel. \nDruga skupina se zbere pri AP Kale\, nato se odpravi proti Apnu in po krožni poti do Pogorišča ter do Jame Pekel. \nKer imamo vsi radi ČISTO NARAVO IN PLANINSKE POTI\, vas vabimo\, da se akcije udeležite v čim večjem številu. \nProsimo\, da svojo udeležbo na čistilni akciji sporočite do četrtka\, 19. 3. 2026\, na številko 031 501 244 Silvo. \n  \nLep planinski pozdrav. \nPredsednik PD Šempeter \nSilvo Črepinšek\, l.r.
URL:https://pd-sempeter.si/dogodek/cistilna-akcija-petek-20-3-2026/
ATTACH;FMTTYPE=image/jpeg:https://pd-sempeter.si/wp-content/uploads/2026/03/cistilna-akcija-pd-sempter.jpg
END:VEVENT
BEGIN:VEVENT
DTSTART;TZID=Europe/Ljubljana:20260314T080000
DTEND;TZID=Europe/Ljubljana:20260314T170000
DTSTAMP:20260424T163709
CREATED:20260304T202423Z
LAST-MODIFIED:20260309T203757Z
UID:486-1773475200-1773507600@pd-sempeter.si
SUMMARY:KUM (1220 m) - Mladi planinec (Sobota\, 14. 3. 2026)
DESCRIPTION:KUM (1220 m) \nv soboto\, 14. 3. 2026\, ob 8. uri. \nZberemo se na parkirišču trgovine Mercator v Šempetru\, od koder se s svojimi vozili odpeljemo proti Trbovljam. Parkirali bomo na opuščenem smučišču\, nad vasjo Dobova\, Lontovž. \n\nS parkirišča nadaljujemo po asfaltirani cesti\, ki se usmeri v gozd. Po dobrih 10 minutah hoje se v desno odcepi pešpot na Kum. Pot nas skozi gozd v rahlem vzponu pripelje ponovno na cesto. Nadaljujemo v desni smeri do travnika. Sprva hodimo ob robu travnika\, nato pa skozi gozd. Za tem pridemo na vršna travnata pobočja Kuma. Nadaljujemo proti kapelici\, ki jo vidimo pred seboj. Takoj za kapelico pridemo na cesto\, ki vodi do vrha. Vračamo se po cesti in delno po gozdni poti. \nZa vso pot bomo porabili slabi 2 uri nezahtevne hoje. \nPRESENEČENJE: DELALI BOMO PLANINSKE VOZLE. \nZa pohod potrebujete dobro uhojeno planinsko obutev\, vremenu primerna oblačila (rokavice\, kapa\, vetrovka …) in dnevnik Mladega planinca. Poleg otrok ste na izlet vabljeni tudi starši. \nPoskrbite za hrano in pijačo iz nahrbtnika ali v domu na Kumu. \nPrijavite se s SMS sporočilom do četrtka\, 12. 3. 2026\, na telefon 031/276/481 (Marjetka). \nV SMS sporočilo napišite ime in priimek udeležencev\, kot je navedeno spodaj. \nPrimer:  \nJanez Novak – S (starš oz. skrbnik) \nMiha Novak – O (otrok)  \nPojdite z nami na zasavski Triglav. \n 
URL:https://pd-sempeter.si/dogodek/kum-1220-m/
ATTACH;FMTTYPE=image/jpeg:https://pd-sempeter.si/wp-content/uploads/2026/03/kum.jpg
END:VEVENT
BEGIN:VEVENT
DTSTART;TZID=Europe/Ljubljana:20260307T070000
DTEND;TZID=Europe/Ljubljana:20260307T170000
DTSTAMP:20260424T163709
CREATED:20260223T201436Z
LAST-MODIFIED:20260223T201436Z
UID:482-1772866800-1772902800@pd-sempeter.si
SUMMARY:PIVOLA - HOČKA KOČA - MARIBORSKA KOČA - Sobota\, 7.3.2026
DESCRIPTION:Zberemo se na parkirišču trgovine Mercator v Šempetru\, od koder se z izrednim avtobusom odpeljemo proti Mariboru in v Hočah zavijemo proti Pivoli oz. Reki. Pri gostilni Rečnik se začne naša pešpot. Od tu nas pelje pot proti cerkvici Svetega Lenarta. Hodili bomo po kolovoznih poteh\, tudi nekaj asfalta bo na poti\, šli bomo čez smrekove gozdove\, travnike\, mimo kmetij Visočnik in Breznik. Pot nas pripelje do Hočke koče\, stara koča je žal zapuščena\, zgrajena je nova iz katere so naredili apartmaje. Nadaljujemo proti Mariborski koči. Po daljšem počitku gremo še do slapa Skalca\, se vračamo na križišče cest pod Mariborsko kočo\, kjer nas bo čakal avtobus. \nKDAJ? V soboto\, 07. marca 2026 ob 7.00 uri. \nKdor zbira žige SPP je Mariborska koča v tej knjižici. \nTa izlet je primeren za vse starostne skupine\, saj imamo pred sabo manj kot 4 ure lahke hoje\, malo previdnosti bo potrebno proti slapu. \nHrana in pijača iz nahrbtnika\, lahko  tudi na  Mariborski koči. \nPriporočamo planinsko opremo\, pohodne palice in vremenu primerno obutev in oblačila\, mogoče male derezice niso odveč v nahrbtniku. \nPrijave zbiramo do srede\, 4. marca 2026 na tel. 031 501 244 /Silvo/. \nPOJDITE Z NAMI NA HOČKO POHORJE!
URL:https://pd-sempeter.si/dogodek/pivola-hocka-koca-mariborska-koca-sobota-7-3-2026/
ATTACH;FMTTYPE=image/jpeg:https://pd-sempeter.si/wp-content/uploads/2026/02/pd-sempeter-pivola-hocka-koca-mariborska-koca.jpg
END:VEVENT
BEGIN:VEVENT
DTSTART;TZID=Europe/Ljubljana:20260221T070000
DTEND;TZID=Europe/Ljubljana:20260221T170000
DTSTAMP:20260424T163709
CREATED:20260210T084859Z
LAST-MODIFIED:20260210T102909Z
UID:474-1771657200-1771693200@pd-sempeter.si
SUMMARY:POT TRAPISTOV - Brestanica - Grmada (Sobota\, 21. 02. 2026)
DESCRIPTION:V soboto\, 21. februarja 2026 ob 7.00 uri \nPot trapistov je ena od šestih tematskih posavskih poti\, ki ponujajo pestro izbiro pohodov za vse generacije. Namenjene so učenju\, spoznavanju naravne in kulturne dediščine\, športnim aktivnostim ter sproščenim pohodom v naravi. \nZberemo se na parkirišču trgovine Mercator v Šempetru\, od koder se z izrednim avtobusom odpeljemo proti Celju in Laškemu do kraja Brestanica\, kjer se bo na ŽP Brestanica začela naša pešpot. Usmerili se bomo po cesti ob reki Savi proti Krškemu in pred kamnolomom zavili v 500 m dolg tunel\, ki so ga nekdaj uporabljali za spravilo premoga iz Semiča. Pot nadaljujemo po Janezovi poti do cerkve sv. Mohorja\, od tu pa na 488 m visoko Grmado\, kjer stoji tudi koča. Tu lahko dobimo kavo\, čaj in drugo pijačo\, v tem letnem času pa hrane nimajo. \nPo nekoliko daljšem počitku se vračamo proti Brestanici po Rudijevi poti do GD Brestanica. Sledi še vzpon na grad Rajhenburg\, ki si ga bomo tudi ogledali. \nIzlet je primeren za vse starostne skupine\, saj imamo pred sabo približno 4 ure lahke hoje. \nHrana in pijača iz nahrbtnika\, pijača je na voljo tudi v koči. \nPriporočamo planinsko opremo\, pohodne palice ter vremenu primerno obutev in oblačila. Morda male derezice v nahrbtniku ne bodo odveč. \nPrijave zbiramo do srede\, 18. februarja 2026 na tel. 031 501 244 – Silvo. \nPOJDITE Z NAMI PO POTI TRAPISTOV!
URL:https://pd-sempeter.si/dogodek/pot-trapistov-brestanica-grmada/
ATTACH;FMTTYPE=image/jpeg:https://pd-sempeter.si/wp-content/uploads/2026/01/Pot-trapistov-PD.jpg
END:VEVENT
BEGIN:VEVENT
DTSTART;TZID=Europe/Ljubljana:20260214T080000
DTEND;TZID=Europe/Ljubljana:20260214T170000
DTSTAMP:20260424T163709
CREATED:20260209T135805Z
LAST-MODIFIED:20260210T102724Z
UID:468-1771056000-1771088400@pd-sempeter.si
SUMMARY:MLADI PLANINEC: Planinski pustni pohod na Brnico (457 m) - Sobota\, 14. 02. 2026
DESCRIPTION:Pohod na BRNICO (457 m) v pustnih maskah bo v soboto\, 14. 2. 2026\, ob 8. uri.  \nZberemo se na parkirišču trgovine Mercator v Šempetru\, od koder se s svojimi vozili odpeljemo proti  Libojam. Parkirali bomo pri bivši kemični tovarni in se odpravili proti planinskemu domu na Brnici. \nPot bomo premagovali po cesti\, tako ne bomo umazali oz. poškodovali pustnih oblačil\, ki so obvezna oprema na tem izletu. \nPot ni naporna in je primerna tudi za mlajše otroke. Do vrha Brnice oz. planinskega doma bomo potrebovali približno 45 min.  \nS sabo potrebujete dobro uhojeno planinsko obutev\, vremenu primerna oblačila (rokavice\, kapa\, vetrovka …) in dnevnik Mladega planinca. Poleg otrok ste na izlet vabljeni tudi starši (v maskah). \n  \nPoskrbite za hrano in pijačo iz nahrbtnika. \n  \nNA CILJU NAS ČAKA SLADKO PRESENEČENJE. \nPrijavite se z SMS sporočilom do četrtka\, 12. 2. 2026\, na telefon 041/971-117 (Meta) \n  \nV SMS sporočilo napišite ime in priimek udeležencev\, kot je navedeno spodaj.  \nPrimer:  \nJanez Novak – S (starš oz. skrbnik) \nMiha Novak – O (otrok)  \nPojdite z nami na Brnico!
URL:https://pd-sempeter.si/dogodek/planinski-pustni-pohod-na-brnico-457-m/
LOCATION:Liboje
ATTACH;FMTTYPE=image/jpeg:https://pd-sempeter.si/wp-content/uploads/2026/02/Pustni-pohod-na-Brnico-Pd-Sempeter-Mladi-Planinec.jpg
END:VEVENT
BEGIN:VEVENT
DTSTART;TZID=Europe/Ljubljana:20260208T090000
DTEND;TZID=Europe/Ljubljana:20260208T190000
DTSTAMP:20260424T163709
CREATED:20260128T143522Z
LAST-MODIFIED:20260128T143843Z
UID:462-1770541200-1770577200@pd-sempeter.si
SUMMARY:AVBER – TOMAJ – SEŽANA - Jakobova pot – Kosovelova pot – Sežana Kosovelovo leto
DESCRIPTION:AVBER (400 m) – TOMAJ – SEŽANA (360 m)\nJakobova pot – Kosovelova pot – Sežana v Kosovelovem letu\nVabljeni na čudovit kulturno-pohodniški izlet po slikovitem Krasu\, kjer bomo združili naravo\, kulturno dediščino in pristna kraška doživetja. \nPotek izleta\nZberemo se na parkirišču trgovine Mercator v Šempetru\, se z izrednim avtobusom odpeljemo proti primorski\, proti Sežani do znamenite vasice Avber kjer se začne naša pešpot. Najprej se povzpnemo do kamnite cerkve v vasi Avber\, izvemo posebnosti te vasice in tu se prične naša Jakobova pot do Tomaja. Tudi Tomaj\, vasica pod Avberjem\, je posebna. Tu naredimo odmor\, kulturni in kulinarični z možnostjo nakupa kraškega kozjega sira in domačega terana\, ki ga boste lahko dali na avtobus\, ki bo prišel tudi v Tomaj. \nNaprej gre naša pot po slikoviti kraški Kosovelovi poti vse do Sežane. Hodimo  po gozdnih in makadamskih poteh med vinogradi\, gozdovi\, travniki in se rahlo spuščamo proti Sežani. Pot je zelo dobro označena\, ravninska in prijetna za hojo tudi v dežju. V Sežano bomo prišli skozi speleoterapevtski park za pljučne bolnike in mesto nas pričaka s Kosovelovo zgodbo\, ki vključuje od imena ulice\, imena šole\, Ljudska univerza s Kosovelovo sobo\, nazadnje pa si bomo ogledali razstavo kraškega kamna v modernem Kosovelovem domu. Po kulturnem in kulinaričnem zaključku Kosovelove poti\, če bo še čas\, pa nas čaka mesto Sežana z znamenitim botaničnim vrtom in kakšnim kotičkom\, ki bi ga želeli obiskati. \nTa izlet je primeren za vse planince\, ki zmorejo prehoditi okoli 4 ure lahke markirane poti. Pijača in hrana iz nahrbtnika in v mestu Sežana. \nNe pozabite na planinsko opremo\, pohodne palice in vremenu primerno obutev in oblačila. Prijave zbiramo do srede 4. februarja 2026 oz. do zasedbe avtobusa na številko 031 501 244. \nInformacije o poti\n\n\nTrajanje hoje: približno 4 ure \n\n\nTežavnost: lahka\, markirana pot \n\n\nPrimerno za vse pohodnike z osnovno kondicijo \n\n\nOprema in prehrana\n\n\nHrana in pijača iz nahrbtnika \n\n\nMožnost dodatne kulinarične ponudbe v Sežani \n\n\nObvezna planinska oprema \n\n\nPohodne palice priporočene \n\n\nVremenu primerna obutev in oblačila \n\n\nPrijave\n📞 Prijave zbiramo do srede\, 4. februarja 2026\, oziroma do zapolnitve mest na avtobusu:031 501 244
URL:https://pd-sempeter.si/dogodek/avber-tomaj-sezana-jakobova-pot-kosovelova-pot-sezana-kosovelovo-leto/
ATTACH;FMTTYPE=image/jpeg:https://pd-sempeter.si/wp-content/uploads/2026/01/pot-kosovelova-jakobova-pot.jpg
END:VEVENT
BEGIN:VEVENT
DTSTART;TZID=Europe/Ljubljana:20260131T090000
DTEND;TZID=Europe/Ljubljana:20260131T180000
DTSTAMP:20260424T163709
CREATED:20260122T104735Z
LAST-MODIFIED:20260122T112632Z
UID:440-1769850000-1769882400@pd-sempeter.si
SUMMARY:HRIBI NAD CELJEM – 2. del -  Sobota\, 31. 1. 2026
DESCRIPTION:HRIBI NAD CELJEM – 2. del\nSobota\, 31. 1. 2026 \nZbor: \n\n\n8.00 – parkirišče Mercator Šempeter \n\n\n8.20 – parkirišče pri visečem mostu (za Brnico) \n\n\nZberemo se na parkirišču trgovine Mercator v Šempetru\, od koder se z osebnimi vozili odpeljemo do Medloga in naprej do parkirišča pred visečim mostom (glej priložen zemljevid – označba P). Tu bomo začeli naš pohod. Prečkali bomo viseči most in se po markirani planinski poti delno usmerili proti Brnici\, nato pa zavili levo na nemarkirano\, vendar dobro uhojeno pot\, ki nas bo po severni strani čez greben vodila na Hom. \nZ vrha sledi spust in krožna pot po markirani poti\, večinoma po južni strani\, proti Brnici. Od planinske koče bomo sestopili nazaj do visečega mostu. \n \nMožnost krajšega pohoda:Kdor želi\, se lahko udeleži le vzpona na Brnico. \nZahtevnost pohoda:Pohod je primeren za vse planince\, ki zmorejo približno 3\,5–4 ure lahke planinske hoje. \nHrana in pijača:Iz nahrbtnika ali v oskrbovani planinski koči na Brnici (na voljo bodo enolončnice – 8 € in štrudelj). \nPotrebna oprema:Planinski čevlji in palice\, oblačila primerna letnemu času in vremenu\, pozimi priporočamo tudi male derezice in gamaše. \nPrijave:Prijave zbiramo do srede\, 28. 1. 2026\, na telefonski številki 031 501 244 (Silvo).
URL:https://pd-sempeter.si/dogodek/hribi-nad-celjem-2-del-sobota-31-1-2026/
ATTACH;FMTTYPE=image/jpeg:https://pd-sempeter.si/wp-content/uploads/2026/01/hribi-nad-celjem-.jpg
END:VEVENT
BEGIN:VEVENT
DTSTART;TZID=Europe/Ljubljana:20260117T090000
DTEND;TZID=Europe/Ljubljana:20260117T180000
DTSTAMP:20260424T163709
CREATED:20260112T160914Z
LAST-MODIFIED:20260122T120829Z
UID:418-1768640400-1768672800@pd-sempeter.si
SUMMARY:Pohod po Loški poti - Sobota\, 17. 1. 2026
DESCRIPTION:V soboto\, 17. januarja 2026\, vas vabimo na pohod po Loški poti\, ki se bo pričel ob 8.00 uri. \nLoška pot nas bo vodila iz središča Dobrne\, skozi zdraviliški kompleks in naprej po cesti v Klanc\, kjer se na pobočjih razprostirajo vinogradi. Pot se bo postopoma vzpenjala do naselja Loka pri Dobrni\, nato pa bomo nadaljevali mimo Čerjakove kapele proti slikoviti dolini mlinov. Ob poti si bomo ogledali več kot 300 let stare ostanke mlinov\, med katerimi izstopa več kot 450 let star zgornji Vovkov mlin\, ki je nekoč mlel žito za potrebe Kačjega gradu. \nPot nas bo vodila naprej po označenih poteh do domačije Lamperček\, kjer si bomo ogledali jelene\, nato pa še do domačije Blažiševih\, znane po zanimivi zbirki starin – starih koles\, sabelj\, predmetov iz vsakdanjega življenja ter zgodovinskih fotografij Dobrne z okolico. Ob pogledu na ruševine Kačjega gradu se bomo po označeni poti vrnili v dolino in nazaj v središče Dobrne. Izlet bomo zaključili z vožnjo do jame Ledenice. \nZa pohod priporočamo dobro pohodno obutev in primerno opremo. Priporočljive so tudi pohodne palice\, v primeru zmrzali pa dereze. \nZbirno mesto: parkirišče pri trgovini Mercator Šempeter ob 8.00Prijave: do srede\, 14. januarja 2026\, na telefonsko številko 031 501 244 \nPridružite se nam in preživite prijeten dan v naravi.
URL:https://pd-sempeter.si/dogodek/pohod-po-loski-poti/
LOCATION:Mercator Šempeter – Dobrna
ATTACH;FMTTYPE=image/jpeg:https://pd-sempeter.si/wp-content/uploads/2026/01/loska-pot-pd-sempetr.jpg
END:VEVENT
BEGIN:VEVENT
DTSTART;TZID=Europe/Ljubljana:20260116T190000
DTEND;TZID=Europe/Ljubljana:20260116T210000
DTSTAMP:20260424T163709
CREATED:20260112T154825Z
LAST-MODIFIED:20260122T120810Z
UID:405-1768590000-1768597200@pd-sempeter.si
SUMMARY:VABILO na OBČNI ZBOR - Petek\, 16. 1. 2026
DESCRIPTION:Spoštovani\, \nvabimo vas na občni zbor Planinskega društva Šempeter\, ki bo v petek\, 16. januarja 2026 ob 18. uri\, v osnovni šoli Šempeter. \nPredlog dnevnega reda: \n\nUvodni pozdrav\nIzvolitev delovnega predsedstva\nPoročila za leto 2025\n\no delu društva\nblagajničarke\nnadzornega odbora\n\n\nRazprava po poročilih in beseda gostov\nProgram dela za leto 2026\nPodelitev priznanj zaslužnim članom društva\nRazno\n\n  \nPo občnem zboru vas vabimo na prijetno druženje. \nLep planinski pozdrav! \nPredsednik PD Šempeter\nSilvester Črepinšek
URL:https://pd-sempeter.si/dogodek/vabilo-na-obcni-zbor/
LOCATION:Osnovna šola Šempeter
ATTACH;FMTTYPE=image/jpeg:https://pd-sempeter.si/wp-content/uploads/2026/01/obcni-zbor.jpg
END:VEVENT
END:VCALENDAR