BEGIN:VCALENDAR
VERSION:2.0
PRODID:-//PD Šempeter - ECPv6.15.13.1//NONSGML v1.0//EN
CALSCALE:GREGORIAN
METHOD:PUBLISH
X-ORIGINAL-URL:https://pd-sempeter.si
X-WR-CALDESC:Dogodki za PD Šempeter
REFRESH-INTERVAL;VALUE=DURATION:PT1H
X-Robots-Tag:noindex
X-PUBLISHED-TTL:PT1H
BEGIN:VTIMEZONE
TZID:Europe/Ljubljana
BEGIN:DAYLIGHT
TZOFFSETFROM:+0100
TZOFFSETTO:+0200
TZNAME:CEST
DTSTART:20250330T010000
END:DAYLIGHT
BEGIN:STANDARD
TZOFFSETFROM:+0200
TZOFFSETTO:+0100
TZNAME:CET
DTSTART:20251026T010000
END:STANDARD
BEGIN:DAYLIGHT
TZOFFSETFROM:+0100
TZOFFSETTO:+0200
TZNAME:CEST
DTSTART:20260329T010000
END:DAYLIGHT
BEGIN:STANDARD
TZOFFSETFROM:+0200
TZOFFSETTO:+0100
TZNAME:CET
DTSTART:20261025T010000
END:STANDARD
BEGIN:DAYLIGHT
TZOFFSETFROM:+0100
TZOFFSETTO:+0200
TZNAME:CEST
DTSTART:20270328T010000
END:DAYLIGHT
BEGIN:STANDARD
TZOFFSETFROM:+0200
TZOFFSETTO:+0100
TZNAME:CET
DTSTART:20271031T010000
END:STANDARD
END:VTIMEZONE
BEGIN:VEVENT
DTSTART;TZID=Europe/Ljubljana:20260425T080000
DTEND;TZID=Europe/Ljubljana:20260425T120000
DTSTAMP:20260424T151454
CREATED:20260417T190046Z
LAST-MODIFIED:20260417T192133Z
UID:576-1777104000-1777118400@pd-sempeter.si
SUMMARY:Savinjska planinska pot - 8.del (Sobota\, 25.4.2026)
DESCRIPTION:V soboto\, 25.4.2026 ob 08.00 uri \nZberemo se na parkirišču trgovine Mercator\, od koder se s svojimi vozili odpeljemo proti Polzeli oziroma do parkirišča v naselju Podvin pod Vinskim vrhom (Vimperkom)\, kjer se bo pričel osmi del naše poti po SAVINJSKI PLANINSKI POTI. \nS parkirišča bomo krenili po makadamskem kolovozu proti vrhu Vinskega vrha\, kamor pridemo v slabih 15 minutah. Tu nas ob cerkvici čaka prvi žig Savinjske planinske poti. Po krajšem postanku se spustimo do križišča našega pristopa po makadamski cesti\, vendar na sedlu nadaljujemo v gozd. Gozd in travnike prečimo mimo posameznih hiš v zaselku Podvin ter mimo hiše naše pesnice Neže Maurer. Za njeno rojstno hišo stopimo na kolovoz\, ki pa kmalu pride do asfaltnega cestišča v naselju Dobrič. Pot nas bo nato vodila po asfaltni cesti mimo novo urejenega parkirišča in kužnega znamenja vse do zadnjih hiš na naši poti. Pri nekdanji gostilni »Jug« krenemo levo v gozd in pred nami bo le še zadnji vzpon po gozdu do našega cilja – planinskega doma na Gori Oljki. Sledi daljši postanek za malico in druženje\, nato se po krožni poti skozi naselje Dobrič vrnemo do vozil. \nPotrebujete dobro uhojene planinske čevlje in pohodne palice. Hrana in pijača iz nahrbtnika ter v domu na Gori Oljki. Ne pozabite dnevnikov Savinjske planinske poti. Za vso pot bomo potrebovali približno štiri ure nezahtevne hoje. \n\nPrijave zbiramo do  22.4.2026  na telefon 5701 944 ali 031 501 244. \n  \nPRIDRUŽITE SE NAM NA POTEPANJU PO \nSAVINJSKI PLANINSKI POTI
URL:https://pd-sempeter.si/dogodek/savinjska-planinska-pot-8-del-sobota-25-4-2026/
ATTACH;FMTTYPE=image/jpeg:https://pd-sempeter.si/wp-content/uploads/2026/04/pd-sempeter-savinjska-pot-gora-oljka.jpg
END:VEVENT
BEGIN:VEVENT
DTSTART;TZID=Europe/Ljubljana:20260425T080000
DTEND;TZID=Europe/Ljubljana:20260425T170000
DTSTAMP:20260424T151454
CREATED:20260407T131808Z
LAST-MODIFIED:20260407T131808Z
UID:530-1777104000-1777136400@pd-sempeter.si
SUMMARY:PD Vojnik - Pohod Vojnik–Kunigunda (Sobota\, 25.4.2026)
DESCRIPTION:Vabilo na 31. tradicionalni pohod Vojnik–Kunigunda \nPlaninsko društvo Vojnik vas vljudno vabi\, da se jim pridružite na 31. tradicionalnem pohodu Vojnik–Kunigunda\, ki bo v soboto\, 25. aprila 2026\, ob 8.00. \nZbor pohodnikov in skupni start bo pri mostu čez Hudinjo v centru Vojnika. \nPot vas bo vodila po trasi: Vojnik – Konjsko – Langeršek – Rigelj – Kunigunda. \nŠtartnina znaša 5 EUR na osebo\, v ceno pa je vključena tudi hrana na cilju. \nNa cilju bo poskrbljeno za prijetno druženje ob hrani\, pijači in glasbi ansambla NAMIG. Ob 13.00 bo tudi maša za pokojne planince. \nZa vse pohodnike je organiziran brezplačen prevoz iz Šmartnega v Rožni dolini do Vojnika ob 15.00\, 16.00\, 17.00 in 18.00 uri. \nV primeru slabega vremena pohod odpade. \nLepo vabljeni\, da skupaj preživimo prijeten dan v naravi\, dobri družbi in čudovitih razgledih.
URL:https://pd-sempeter.si/dogodek/pd-vojnik-pohod-vojnik-kunigunda-sobota-25-4-2026/
ATTACH;FMTTYPE=image/jpeg:https://pd-sempeter.si/wp-content/uploads/2026/04/PD-vojnik-vabilo.jpg
END:VEVENT
BEGIN:VEVENT
DTSTART;VALUE=DATE:20260430
DTEND;VALUE=DATE:20260504
DTSTAMP:20260424T151454
CREATED:20260305T185806Z
LAST-MODIFIED:20260320T224741Z
UID:490-1777507200-1777852799@pd-sempeter.si
SUMMARY:CAMINO KRK (30.4. - 3.5.2026)
DESCRIPTION:NA 4 – DNEVNI POHOD PO CAMINO KRK \nod 30. aprila – 3. maja 2026 \n»Camino Krk je krožna pohodniška pot\, ki  gre v dolžini 152 km okoli celotnega otoka Krk. Ima 7 etap\, ki potekajo po urejenih in tudi dobro označenih poteh. Pot so l. 2019 uredili po vzoru 800 km dolge španske poti Camino de Santiago oz. Jakobova romarska pot. Pot Camino je označena s svetlo rumeno Jakobovo školjko – kapesanta na modrih tablicah\, ki vodi pohodnike med zgodovinsko in kulturno pomembnimi lokacijami in kraji…« \nOb 4. uri zjutraj se zberemo na parkirišču trgovine Mercator v Šempetru\, kdor pride v Celju  pri Zlatorogu na avtobus\, pa ob 3.30 uri\, od koder se z izrednim avtobusom odpeljemo proti Ljubljani\, Ilirski Bistrici\, prestopimo državno mejo in nadaljujemo do otoka Krk. \n  \n\ndan 30.4.2026 VRBNIK – BAŠKA – 1. etapa\n\nŽe prvi dan bomo začeli pohod v kraju Vrbnik in nadaljevali Camino pot do mesta Baška. Celotna pot je dolga 21\,5 km. Možno bo prehoditi krajšo različico. Krajša pot bo trajala okoli 3 ure in postanki\, daljša 6 ur in postanki. Po pohodu se odpeljemo do hotela\, se nastanimo in sledi večerja. Ker je že prvi dan pohod\, pred nastanitvijo v hotelu\, bodite planinsko oblečeni in obuti \, planinske palice priporočljive\, nekaj malice s seboj in tekočina za na pot. \n  \n\ndan 1.5.2026 SOLINE-VRBNIK – 2. etapa\n\nPo zajtrku se z avtobusom odpeljemo do Solin. Celotna pot tega dne nas pelje do Vrbnika. Pot je dolga 23 km. Tudi ta dan bo možna krajša različica poti. Krajša pot bo trajala 3 ure in postanki\, daljša 6\,5 ur in postanki. Sledi povratek do hotela in večerja. \n  \n\ndan 2.5.2026 BAŠKA – PUNAT – 3- etapa\n\nPo zajtrku se odpeljemo do Baške. Celotna pot tega dne nas pelje do Punata. Dolga je 22 km. Krajša različica bo trajala 3 ure in postanki\, daljša 6-7 ur in postanki. Ta dan gre daljša pot na najvišji vrh Krka – Obzova 569 m. Povratek do hotela in večerja. \n  \n\ndan 3.5.2026 KRK – PUNAT – 4. etapa\n\nPo zajtrku\, pospravimo kovčke in jih naložimo na avtobus. Naredimo skupno samo eno turo\, od hotela\, kjer smo nastanjeni\, do Dobrinja in dalje do Punata. Hodili bomo okoli 3 ure. V Punat nas pride iskat avtobus in nas odpelje nazaj do hotela na kosilo. Po kosilu sledi povratek domov. domu. \nObvezni osebni dokumenti za na pot: \n\nplaninska izkaznica s plačano članarino v enem od PD PZS\nosebna izkaznica oz. potni list\nzdravstvena izkaznica za tujino\ndodatno zdravstveno zavarovanje za tujino ni v ceni izleta\n\nCena izleta je 300 EUR in vključuje: \n\nPrevozi z avtobusom z vključenimi cestninami\,\nParkirnina za avtobus\nMalica na poti – prvi dan\n3 x nočitev v hotelu resort Dražica*** dvoposteljna soba\, enoposteljna z doplačilom\n3 x polpenzion /zajtrk\, večerja/ ob večerji pijača – samopostrežni aparat/ sokovi\, vino\, pivo\, voda (od 19 -21 ure)\nPijača dobrodošlice\nKoriščenje hotelskega bazena\nFitnes\nKosilo v nedeljo 3. maja z eno pijačo iz samopostrežnega aparata\nTuristična taksa 2 EUR na noč\n\nMožnost spreminjanja etap\, o tem se bomo odločali glede na vremenske razmere. Na avtobusu predstavitev vsake etape. \nPriporočamo visoke planinske čevlje\, za tiste\, kateri boste delali dolge ture so obvezne. \n  \nPrijave na izlet na tel. 031- 501 244 – Silvo\, najkasneje do 25. marca 2026 \n\ndo zasedbe avtobusa. Pohitite s prijavami.\n\nPOJDITE Z NAMI NA CAMINO KRK!
URL:https://pd-sempeter.si/dogodek/camino-krk-30-4-3-5-2026/
ATTACH;FMTTYPE=image/jpeg:https://pd-sempeter.si/wp-content/uploads/2026/03/pd-sempeter-camino-krk2026.jpg
END:VEVENT
BEGIN:VEVENT
DTSTART;VALUE=DATE:20260621
DTEND;VALUE=DATE:20260629
DTSTAMP:20260424T151454
CREATED:20260112T160204Z
LAST-MODIFIED:20260114T070824Z
UID:410-1782007200-1782611999@pd-sempeter.si
SUMMARY:Dugi Otok PD Šempeter – Pohodniško in kolesarsko doživetje (21. – 27. 6. 2026)
DESCRIPTION:Vabimo vas na pohodniško in kolesarsko doživetje med 21. in 27.6.2026 na Dugi otok. \nDugi otok leži v Srednjem Jadranu\, zahodno od Ugljana in Pašmana\, in je dolg severno-dalmatinski otok. S površino 113 km² je sedmi po velikosti\, z zelo dolgimi obalami (171 km in 182 km)\, 13 naselji ter več kraškimi dolinami in polji. Otok nima pitne vode\, ima pa slano jezero Mir. Najbolj impresiven del otoka je naravni park Telašćica. \nProgram potovanja\n1. dan – nedelja\, 21. 6. 2026\n\nZgodnja odhod iz Slovenije\, prečkanje meje\, vožnja do Zadra.\nTrajekt do Brbinja in nadaljevanje do Božave (hotel).\nČas za sprehod po Božavi\, večerja in nočitev.\n\n2. dan – ponedeljek\, 22. 6. 2026 – Telašćica (3–4 ure hoje)\n\nNaravni park Telašćica: zaliv Telašćica\, 25 zalivčkov\, slano jezero Mir (temperatura do 33 °C).\nSprehod do razgledne točke Grapaščak (147 m)\, možnost kopanja.\nVrnitev v hotel\, večerja.\n\n3. dan – torek\, 23. 6. 2026 – Orljak (301 m\, 4 ure hoje)\n\nKrožna pot mimo kraške jame Strašna peč do Orljaka\, najvišjega dostopnega vrha Dugega otoka.\nRazgledi na Velebit\, Dinaro\, Promino\, otoke Pag\, Ugljan\, Pašman in Kornate.\nVrnitev v hotel\, večerja.\n\n4. dan – sreda\, 24. 6. 2026 – NP Kornati (3 ure hoje)\n\nLadijski izlet iz naselja Zaglav do otoka Veliki Kornat.\nPohod na najvišji vrh NP Kornati\, Metlino (237 m)\, razgledi do Visa in Lastova.\nKosilo na ladji in povratek v Božavo. Kdor ne želi na Kornate\, ostane v Božavi in dan izkoristi po svoje.\n\n5. dan – četrtek\, 25. 6. 2026 – Veli Rat (4 ure hoje)\n\nSvetilnik Veli Rat\, ogled najlepših plaž Sakarun.\nPovratek v hotel.\n\n6. dan – petek\, 26. 6. 2026 (3 ure hoje)\n\nPohod do cerkvice Gospa od Dubravica in naselja Dragove.\nOgled bunkerja/podkopa v Paprenici (za torpedne čolne in podmornice).\nPovratek v Božavo.\n\n7. dan – sobota\, 27. 6. 2026\n\nVožnja do Brbinja in trajekt za Zadar.\nPo dogovoru obisk slapov reke Zrmanje – Berberov kuk (do 20 m visoki slapovi).\nPovratek proti Sloveniji\, prihod v zgodnjih večernih urah.\n\nCena in vključeno\nCena: 590 € (pri najmanj 45 osebah) \nVključuje: \n\nPrevoz\n6 x polpenzion v hotelu Lavanda/Agava/Mitra *** (dvoposteljne sobe)\nVse zunanje oglede po programu\nStroške priprave\, organizacije in vodenja\n\nDoplačila: \n\nVstopnina za planince v park Telašćica: predvidoma 10 €\nIzlet z ladjo na Kornate in piknik: predvidoma 50 €\nTuristična taksa: 2 € na dan/oseba\n\nPrijave\nZbiramo do 28. 2. 2026 ali do zasedbe avtobusa.\nKontakt: 031 501 244 – Silvo \n\nOrganizator: RR Tours – potovanja\, pohodništvo\, kolesarjenja\nMaribor\, Slovenija\nTel.: 030 300 696\nPOŠIDI\, organizacija in prodaja turističnih potovanj\, d.o.o.\nMŠ: 9598308000\nDŠ: SI 73858242 \nKraj: Dugi otok\, Srednji Jadran\, Hrvaška \nDatum: 21. junij 2026 – 27. junij 2026
URL:https://pd-sempeter.si/dogodek/dugi-otok-pd-sempeter-pohodnisko-in-kolesarsko-dozivetje-21-27-6-2026/
ATTACH;FMTTYPE=image/jpeg:https://pd-sempeter.si/wp-content/uploads/2026/01/dugi-otok-pd-sempeter.jpg
END:VEVENT
END:VCALENDAR