BEGIN:VCALENDAR
VERSION:2.0
PRODID:-//PD Šempeter - ECPv6.15.13.1//NONSGML v1.0//EN
CALSCALE:GREGORIAN
METHOD:PUBLISH
X-ORIGINAL-URL:https://pd-sempeter.si
X-WR-CALDESC:Dogodki za PD Šempeter
REFRESH-INTERVAL;VALUE=DURATION:PT1H
X-Robots-Tag:noindex
X-PUBLISHED-TTL:PT1H
BEGIN:VTIMEZONE
TZID:Europe/Ljubljana
BEGIN:DAYLIGHT
TZOFFSETFROM:+0100
TZOFFSETTO:+0200
TZNAME:CEST
DTSTART:20250330T010000
END:DAYLIGHT
BEGIN:STANDARD
TZOFFSETFROM:+0200
TZOFFSETTO:+0100
TZNAME:CET
DTSTART:20251026T010000
END:STANDARD
BEGIN:DAYLIGHT
TZOFFSETFROM:+0100
TZOFFSETTO:+0200
TZNAME:CEST
DTSTART:20260329T010000
END:DAYLIGHT
BEGIN:STANDARD
TZOFFSETFROM:+0200
TZOFFSETTO:+0100
TZNAME:CET
DTSTART:20261025T010000
END:STANDARD
BEGIN:DAYLIGHT
TZOFFSETFROM:+0100
TZOFFSETTO:+0200
TZNAME:CEST
DTSTART:20270328T010000
END:DAYLIGHT
BEGIN:STANDARD
TZOFFSETFROM:+0200
TZOFFSETTO:+0100
TZNAME:CET
DTSTART:20271031T010000
END:STANDARD
END:VTIMEZONE
BEGIN:VEVENT
DTSTART;TZID=Europe/Ljubljana:20260131T090000
DTEND;TZID=Europe/Ljubljana:20260131T180000
DTSTAMP:20260424T180636
CREATED:20260122T104735Z
LAST-MODIFIED:20260122T112632Z
UID:440-1769850000-1769882400@pd-sempeter.si
SUMMARY:HRIBI NAD CELJEM – 2. del -  Sobota\, 31. 1. 2026
DESCRIPTION:HRIBI NAD CELJEM – 2. del\nSobota\, 31. 1. 2026 \nZbor: \n\n\n8.00 – parkirišče Mercator Šempeter \n\n\n8.20 – parkirišče pri visečem mostu (za Brnico) \n\n\nZberemo se na parkirišču trgovine Mercator v Šempetru\, od koder se z osebnimi vozili odpeljemo do Medloga in naprej do parkirišča pred visečim mostom (glej priložen zemljevid – označba P). Tu bomo začeli naš pohod. Prečkali bomo viseči most in se po markirani planinski poti delno usmerili proti Brnici\, nato pa zavili levo na nemarkirano\, vendar dobro uhojeno pot\, ki nas bo po severni strani čez greben vodila na Hom. \nZ vrha sledi spust in krožna pot po markirani poti\, večinoma po južni strani\, proti Brnici. Od planinske koče bomo sestopili nazaj do visečega mostu. \n \nMožnost krajšega pohoda:Kdor želi\, se lahko udeleži le vzpona na Brnico. \nZahtevnost pohoda:Pohod je primeren za vse planince\, ki zmorejo približno 3\,5–4 ure lahke planinske hoje. \nHrana in pijača:Iz nahrbtnika ali v oskrbovani planinski koči na Brnici (na voljo bodo enolončnice – 8 € in štrudelj). \nPotrebna oprema:Planinski čevlji in palice\, oblačila primerna letnemu času in vremenu\, pozimi priporočamo tudi male derezice in gamaše. \nPrijave:Prijave zbiramo do srede\, 28. 1. 2026\, na telefonski številki 031 501 244 (Silvo).
URL:https://pd-sempeter.si/dogodek/hribi-nad-celjem-2-del-sobota-31-1-2026/
ATTACH;FMTTYPE=image/jpeg:https://pd-sempeter.si/wp-content/uploads/2026/01/hribi-nad-celjem-.jpg
END:VEVENT
BEGIN:VEVENT
DTSTART;TZID=Europe/Ljubljana:20260117T090000
DTEND;TZID=Europe/Ljubljana:20260117T180000
DTSTAMP:20260424T180636
CREATED:20260112T160914Z
LAST-MODIFIED:20260122T120829Z
UID:418-1768640400-1768672800@pd-sempeter.si
SUMMARY:Pohod po Loški poti - Sobota\, 17. 1. 2026
DESCRIPTION:V soboto\, 17. januarja 2026\, vas vabimo na pohod po Loški poti\, ki se bo pričel ob 8.00 uri. \nLoška pot nas bo vodila iz središča Dobrne\, skozi zdraviliški kompleks in naprej po cesti v Klanc\, kjer se na pobočjih razprostirajo vinogradi. Pot se bo postopoma vzpenjala do naselja Loka pri Dobrni\, nato pa bomo nadaljevali mimo Čerjakove kapele proti slikoviti dolini mlinov. Ob poti si bomo ogledali več kot 300 let stare ostanke mlinov\, med katerimi izstopa več kot 450 let star zgornji Vovkov mlin\, ki je nekoč mlel žito za potrebe Kačjega gradu. \nPot nas bo vodila naprej po označenih poteh do domačije Lamperček\, kjer si bomo ogledali jelene\, nato pa še do domačije Blažiševih\, znane po zanimivi zbirki starin – starih koles\, sabelj\, predmetov iz vsakdanjega življenja ter zgodovinskih fotografij Dobrne z okolico. Ob pogledu na ruševine Kačjega gradu se bomo po označeni poti vrnili v dolino in nazaj v središče Dobrne. Izlet bomo zaključili z vožnjo do jame Ledenice. \nZa pohod priporočamo dobro pohodno obutev in primerno opremo. Priporočljive so tudi pohodne palice\, v primeru zmrzali pa dereze. \nZbirno mesto: parkirišče pri trgovini Mercator Šempeter ob 8.00Prijave: do srede\, 14. januarja 2026\, na telefonsko številko 031 501 244 \nPridružite se nam in preživite prijeten dan v naravi.
URL:https://pd-sempeter.si/dogodek/pohod-po-loski-poti/
LOCATION:Mercator Šempeter – Dobrna
ATTACH;FMTTYPE=image/jpeg:https://pd-sempeter.si/wp-content/uploads/2026/01/loska-pot-pd-sempetr.jpg
END:VEVENT
BEGIN:VEVENT
DTSTART;TZID=Europe/Ljubljana:20260116T190000
DTEND;TZID=Europe/Ljubljana:20260116T210000
DTSTAMP:20260424T180636
CREATED:20260112T154825Z
LAST-MODIFIED:20260122T120810Z
UID:405-1768590000-1768597200@pd-sempeter.si
SUMMARY:VABILO na OBČNI ZBOR - Petek\, 16. 1. 2026
DESCRIPTION:Spoštovani\, \nvabimo vas na občni zbor Planinskega društva Šempeter\, ki bo v petek\, 16. januarja 2026 ob 18. uri\, v osnovni šoli Šempeter. \nPredlog dnevnega reda: \n\nUvodni pozdrav\nIzvolitev delovnega predsedstva\nPoročila za leto 2025\n\no delu društva\nblagajničarke\nnadzornega odbora\n\n\nRazprava po poročilih in beseda gostov\nProgram dela za leto 2026\nPodelitev priznanj zaslužnim članom društva\nRazno\n\n  \nPo občnem zboru vas vabimo na prijetno druženje. \nLep planinski pozdrav! \nPredsednik PD Šempeter\nSilvester Črepinšek
URL:https://pd-sempeter.si/dogodek/vabilo-na-obcni-zbor/
LOCATION:Osnovna šola Šempeter
ATTACH;FMTTYPE=image/jpeg:https://pd-sempeter.si/wp-content/uploads/2026/01/obcni-zbor.jpg
END:VEVENT
END:VCALENDAR